BEGIN:VCALENDAR
VERSION:2.0
BEGIN:VEVENT
URL:https://manlyleagues.oztix.com.au/outlet/event/89cab475-b3a9-4ec6-b842-be2b1a43ca23
DTSTART:20200822T093000Z
DTEND:20200822T093000Z
SUMMARY:Love Cats – A Tribute to The Cure
DESCRIPTION:Event details: https://manlyleagues.oztix.com.au/outlet/event/89cab475-b3a9-4ec6-b842-be2b1a43ca23
LOCATION:Manly Leagues Club (Brookvale, NSW)
END:VEVENT
END:VCALENDAR