BEGIN:VCALENDAR
VERSION:2.0
BEGIN:VEVENT
URL:https://manlyleagues.oztix.com.au/outlet/event/7ffd23a1-ed0d-4952-93e5-4d6261832cf0
DTSTART:20200328T083000Z
DTEND:20200328T083000Z
SUMMARY:Spoons: A Santa Barbara Story
DESCRIPTION:Event details: https://manlyleagues.oztix.com.au/outlet/event/7ffd23a1-ed0d-4952-93e5-4d6261832cf0
LOCATION:Manly Leagues Club (Brookvale, NSW)
END:VEVENT
END:VCALENDAR