BEGIN:VCALENDAR
VERSION:2.0
BEGIN:VEVENT
URL:https://manlyleagues.oztix.com.au/outlet/event/34641fe6-a136-4854-8a69-48b7713f33d5
DTSTART:20200403T083000Z
DTEND:20200403T083000Z
SUMMARY:Royal With Cheese – The Ultimate 90s Rock Show
DESCRIPTION:Event details: https://manlyleagues.oztix.com.au/outlet/event/34641fe6-a136-4854-8a69-48b7713f33d5
LOCATION:Manly Leagues Club (Brookvale, NSW)
END:VEVENT
END:VCALENDAR