BEGIN:VCALENDAR
VERSION:2.0
BEGIN:VEVENT
URL:https://manlyleagues.oztix.com.au/outlet/event/17bfd62a-f241-47a9-9ec9-3e3d954356fb
DTSTART:20200522T093000Z
DTEND:20200522T093000Z
SUMMARY:Everyone Loves Dolly! – A Tribute to Dolly Parton
DESCRIPTION:Event details: https://manlyleagues.oztix.com.au/outlet/event/17bfd62a-f241-47a9-9ec9-3e3d954356fb
LOCATION:Manly Leagues Club (Brookvale, NSW)
END:VEVENT
END:VCALENDAR