BEGIN:VCALENDAR
VERSION:2.0
BEGIN:VEVENT
URL:https://manlyleagues.oztix.com.au/outlet/event/104aa05b-31cb-4c92-a9f9-96ab7483a4ae
DTSTART:20200606T093000Z
DTEND:20200606T093000Z
SUMMARY:Running in The Shadows – The Australian Fleetwood Mac Show
DESCRIPTION:Event details: https://manlyleagues.oztix.com.au/outlet/event/104aa05b-31cb-4c92-a9f9-96ab7483a4ae
LOCATION:Manly Leagues Club (Brookvale, NSW)
END:VEVENT
END:VCALENDAR